BEGIN:VCALENDAR
VERSION:2.0
PRODID:-//Cooperative Agricultural Support Services Authority - ECPv6.15.20//NONSGML v1.0//EN
CALSCALE:GREGORIAN
METHOD:PUBLISH
X-ORIGINAL-URL:https://agsupport.org
X-WR-CALDESC:Events for Cooperative Agricultural Support Services Authority
REFRESH-INTERVAL;VALUE=DURATION:PT1H
X-Robots-Tag:noindex
X-PUBLISHED-TTL:PT1H
BEGIN:VTIMEZONE
TZID:America/Los_Angeles
BEGIN:DAYLIGHT
TZOFFSETFROM:-0800
TZOFFSETTO:-0700
TZNAME:PDT
DTSTART:20210314T100000
END:DAYLIGHT
BEGIN:STANDARD
TZOFFSETFROM:-0700
TZOFFSETTO:-0800
TZNAME:PST
DTSTART:20211107T090000
END:STANDARD
BEGIN:DAYLIGHT
TZOFFSETFROM:-0800
TZOFFSETTO:-0700
TZNAME:PDT
DTSTART:20220313T100000
END:DAYLIGHT
BEGIN:STANDARD
TZOFFSETFROM:-0700
TZOFFSETTO:-0800
TZNAME:PST
DTSTART:20221106T090000
END:STANDARD
BEGIN:DAYLIGHT
TZOFFSETFROM:-0800
TZOFFSETTO:-0700
TZNAME:PDT
DTSTART:20230312T100000
END:DAYLIGHT
BEGIN:STANDARD
TZOFFSETFROM:-0700
TZOFFSETTO:-0800
TZNAME:PST
DTSTART:20231105T090000
END:STANDARD
BEGIN:DAYLIGHT
TZOFFSETFROM:-0800
TZOFFSETTO:-0700
TZNAME:PDT
DTSTART:20240310T100000
END:DAYLIGHT
BEGIN:STANDARD
TZOFFSETFROM:-0700
TZOFFSETTO:-0800
TZNAME:PST
DTSTART:20241103T090000
END:STANDARD
BEGIN:DAYLIGHT
TZOFFSETFROM:-0800
TZOFFSETTO:-0700
TZNAME:PDT
DTSTART:20250309T100000
END:DAYLIGHT
BEGIN:STANDARD
TZOFFSETFROM:-0700
TZOFFSETTO:-0800
TZNAME:PST
DTSTART:20251102T090000
END:STANDARD
END:VTIMEZONE
BEGIN:VEVENT
DTSTART;TZID=America/Los_Angeles:20240304T133000
DTEND;TZID=America/Los_Angeles:20240304T143000
DTSTAMP:20260419T094943
CREATED:20241121T231735Z
LAST-MODIFIED:20241122T181630Z
UID:37013-1709559000-1709562600@agsupport.org
SUMMARY:CASS Board Meeting
DESCRIPTION:
URL:https://agsupport.org/event/cass-board-meeting/
CATEGORIES:Meetings
END:VEVENT
BEGIN:VEVENT
DTSTART;TZID=America/Los_Angeles:20240125T133000
DTEND;TZID=America/Los_Angeles:20240125T143000
DTSTAMP:20260419T094943
CREATED:20241122T172403Z
LAST-MODIFIED:20241122T181552Z
UID:37036-1706189400-1706193000@agsupport.org
SUMMARY:CASS Board Meeting
DESCRIPTION:
URL:https://agsupport.org/event/cass-board-meeting-4/
CATEGORIES:Meetings
END:VEVENT
BEGIN:VEVENT
DTSTART;TZID=America/Los_Angeles:20230824T133000
DTEND;TZID=America/Los_Angeles:20230824T143000
DTSTAMP:20260419T094944
CREATED:20241121T234931Z
LAST-MODIFIED:20241122T181504Z
UID:37028-1692883800-1692887400@agsupport.org
SUMMARY:CASS Board Meeting
DESCRIPTION:
URL:https://agsupport.org/event/cass-board-meeting-3/
LOCATION:Online\, 1545 River Park Dr.\, Suite 205\, Sacramento\, CA\, 95815\, United States
CATEGORIES:Meetings
END:VEVENT
BEGIN:VEVENT
DTSTART;TZID=America/Los_Angeles:20230420T133000
DTEND;TZID=America/Los_Angeles:20230420T143000
DTSTAMP:20260419T094944
CREATED:20241122T175956Z
LAST-MODIFIED:20241122T181359Z
UID:37041-1681997400-1682001000@agsupport.org
SUMMARY:CASS Board Meeting
DESCRIPTION:
URL:https://agsupport.org/event/cass-board-meeting-6/
CATEGORIES:Meetings
END:VEVENT
BEGIN:VEVENT
DTSTART;TZID=America/Los_Angeles:20230126T133000
DTEND;TZID=America/Los_Angeles:20230126T143000
DTSTAMP:20260419T094944
CREATED:20241122T180437Z
LAST-MODIFIED:20241122T181316Z
UID:37045-1674739800-1674743400@agsupport.org
SUMMARY:CASS Board Meeting
DESCRIPTION:
URL:https://agsupport.org/event/cass-board-meeting-8/
CATEGORIES:Meetings
END:VEVENT
BEGIN:VEVENT
DTSTART;TZID=America/Los_Angeles:20221027T133000
DTEND;TZID=America/Los_Angeles:20241027T143000
DTSTAMP:20260419T094944
CREATED:20241121T234239Z
LAST-MODIFIED:20241122T181238Z
UID:37026-1666877400-1730039400@agsupport.org
SUMMARY:CASS Board Meeting
DESCRIPTION:
URL:https://agsupport.org/event/cass-board-meeting-2/
CATEGORIES:Meetings
END:VEVENT
BEGIN:VEVENT
DTSTART;TZID=America/Los_Angeles:20220728T133000
DTEND;TZID=America/Los_Angeles:20220728T143000
DTSTAMP:20260419T094944
CREATED:20241122T174557Z
LAST-MODIFIED:20241122T181201Z
UID:37039-1659015000-1659018600@agsupport.org
SUMMARY:CASS Board Meeting
DESCRIPTION:
URL:https://agsupport.org/event/cass-board-meeting-5/
CATEGORIES:Meetings
END:VEVENT
BEGIN:VEVENT
DTSTART;TZID=America/Los_Angeles:20220428T133000
DTEND;TZID=America/Los_Angeles:20220428T143000
DTSTAMP:20260419T094944
CREATED:20241122T181025Z
LAST-MODIFIED:20241122T181102Z
UID:37047-1651152600-1651156200@agsupport.org
SUMMARY:CASS Board Meeting
DESCRIPTION:
URL:https://agsupport.org/event/cass-board-meeting-9/
CATEGORIES:Meetings
END:VEVENT
END:VCALENDAR